Workbook
Name _1: 'závěsy dle výklopu'!$A$75:$A$76
Name _2: 'závěsy dle výklopu'!$B$75:$B$77
Name _2_strany: 'závěsy dle výklopu'!$AP$2:$AP$3
Name _3: 'závěsy dle výklopu'!$C$75
Name _4_strany: 'závěsy dle výklopu'!$AO$2:$AO$5
Name _A1: 'závěsy dle výklopu'!$B$96:$B$111
Name _A2: 'závěsy dle výklopu'!$D$96
Name _A3: 'závěsy dle výklopu'!$F$96:$F$111
Name _corleone: 'závěsy dle výklopu'!$A$97:$A$139
Name _kombinovane_profily: kombinace_1!$F$18:$F$19
Name _N1: 'závěsy dle výklopu'!$A$96:$A$139
Name _N2: 'závěsy dle výklopu'!$C$96:$C$121
Name _N3: 'závěsy dle výklopu'!$E$96:$E$111
Name _obrazek: IF(kombinace_2!$H$1="PRAVDA",kombinace_2!$G$23,IF(kombinace_2!$H$1="NEPRAVDA",kombinace_2!$G$31,0))
Name _obrazek: IF(kombinace_3!$H$1="PRAVDA",kombinace_3!$G$23,IF(kombinace_3!$H$1="NEPRAVDA",kombinace_3!$G$31,0))
Name _obrazek: IF(kombinace_4!$H$1="PRAVDA",kombinace_4!$G$23,IF(kombinace_4!$H$1="NEPRAVDA",kombinace_4!$G$31,0))
Name _obrazek: IF(kombinace_5!$H$1="PRAVDA",kombinace_5!$G$23,IF(kombinace_5!$H$1="NEPRAVDA",kombinace_5!$G$31,0))
Name _obrazek: IF(kombinace_6!$H$1="PRAVDA",kombinace_6!$G$23,IF(kombinace_6!$H$1="NEPRAVDA",kombinace_6!$G$31,0))
Name _obrazek: IF(kombinace_1!$H$1="PRAVDA",kombinace_1!$G$23,IF(kombinace_1!$H$1="NEPRAVDA",kombinace_1!$G$31,0))
Name _profily_síťka: 'závěsy dle výklopu'!$A$81:$A$90
Name _ramena_HL: 'Translate&Prices&Logo'!$B$618:$B$626
Name _Salice_naložený: kombinace_1!$FA$2:$FA$9
Name _strong_vzpera_horni: 'Translate&Prices&Logo'!$B$595:$B$614
Name _stronglift_klopna: 'Translate&Prices&Logo'!$B$616:$B$617
Name _široký_BLUM_naložený: 'rozpad závěsů bez prázdn. řádků'!$G$24:$G$28
Name _široký_BLUM_polonaložený: 'rozpad závěsů bez prázdn. řádků'!$G$29:$G$32
Name _široký_BLUM_vložený: 'rozpad závěsů bez prázdn. řádků'!$G$33:$G$36
Name _široký_HETTICH_naložený: 'rozpad závěsů bez prázdn. řádků'!$G$37:$G$41
Name _široký_HETTICH_polonaložený: 'rozpad závěsů bez prázdn. řádků'!$G$42:$G$46
Name _široký_HETTICH_vložený: 'rozpad závěsů bez prázdn. řádků'!$G$47:$G$51
Name _široký_STRONGHINGESS3_naložený: 'rozpad závěsů bez prázdn. řádků'!$G$58:$G$60
Name _široký_STRONGHINGESS3_polonaložený: 'rozpad závěsů bez prázdn. řádků'!$G$61:$G$63
Name _široký_STRONGHINGESS3_vložený: 'rozpad závěsů bez prázdn. řádků'!$G$64:$G$66
Name _široký_STRONGHINGESS5_naložený: 'rozpad závěsů bez prázdn. řádků'!$G$52:$G$53
Name _široký_STRONGHINGESS5_polonaložený: 'rozpad závěsů bez prázdn. řádků'!$G$54:$G$55
Name _široký_STRONGHINGESS5_vložený: 'rozpad závěsů bez prázdn. řádků'!$G$56:$G$57
Name _úzký_BLUM_naložený: 'rozpad závěsů bez prázdn. řádků'!$G$2:$G$6
Name _úzký_BLUM_naložený_Rocca: 'rozpad závěsů bez prázdn. řádků'!$G$3:$G$6
Name _úzký_BLUM_polonaložený: 'rozpad závěsů bez prázdn. řádků'!$G$7:$G$8
Name _úzký_BLUM_polonaložený_Rocca: 'rozpad závěsů bez prázdn. řádků'!$G$8
Name _úzký_BLUM_vložený: 'rozpad závěsů bez prázdn. řádků'!$G$9:$G$10
Name _úzký_BLUM_vložený_Rocca: 'rozpad závěsů bez prázdn. řádků'!$G$10
Name _úzký_HETTICH_naložený: 'rozpad závěsů bez prázdn. řádků'!$G$11:$G$14
Name _úzký_HETTICH_polonaložený: 'rozpad závěsů bez prázdn. řádků'!$G$15:$G$17
Name _úzký_HETTICH_vložený: 'rozpad závěsů bez prázdn. řádků'!$G$18:$G$20
Name _úzký_STRONGHINGESS3_naložený: 'rozpad závěsů bez prázdn. řádků'!$G$23
Name _úzký_STRONGHINGESS5_naložený: 'rozpad závěsů bez prázdn. řádků'!$G$21:$I$21
Name _vše_profily: kombinace_1!$A$3:$A$68
Name _vyklopy_blum: kombinace_2!$AB$4:$AB$10
Name _vyklopy_blum: kombinace_3!$AB$4:$AB$10
Name _vyklopy_blum: kombinace_4!$AB$4:$AB$10
Name _vyklopy_blum: kombinace_5!$AB$4:$AB$10
Name _vyklopy_blum: kombinace_6!$AB$4:$AB$10
Name _vyklopy_blum: kombinace_1!$AB$4:$AB$10
Name _vyklopy_blum_kombo: kombinace_1!$AB$50:$AB$53
Name _vyklopy_hettich: kombinace_2!$AB$43:$AB$45
Name _vyklopy_hettich: kombinace_3!$AB$43:$AB$45
Name _vyklopy_hettich: kombinace_4!$AB$43:$AB$45
Name _vyklopy_hettich: kombinace_5!$AB$43:$AB$45
Name _vyklopy_hettich: kombinace_6!$AB$43:$AB$45

Sheet Hlavní
V2: =VLOOKUP(V39,kombinace_1!$EJ$3:$EK$8,2,0) -> PL
K4: ='Translate&Prices&Logo'!$B$247 -> Formularz zamówienia ramek aluminiowych
B14: ='Translate&Prices&Logo'!$B$310 -> Zwykłe ramki | Q14: ='Translate&Prices&Logo'!$B$311 -> Ramki przesuwne
J21: ='Translate&Prices&Logo'!$B$583 -> Zamówienie szkła
B28: ='Translate&Prices&Logo'!$B$281 -> Kolory LACOBEL i MATELAC | Q28: ='Translate&Prices&Logo'!$B$312 -> Rysunki profili i okuć łączących
A38: ='Translate&Prices&Logo'!$B$249 -> Ceny obowiązują od 18.5.2026/Wersja 8.4
V39: 3

Sheet Zakaznik
Q2: ='Translate&Prices&Logo'!$B$542 -> Wprowadzenie
F5: ='Translate&Prices&Logo'!$B$304 -> Zawsze korzystaj z aktualnej wersji formularza, który jest umieszczony na naszej stronie web.
E10: ='Translate&Prices&Logo'!B308 -> Wpisz proszę dane kontaktowe i kliknij w odpowiednie okienko poniżej.
E13: ='Translate&Prices&Logo'!$B$251 -> Klient
E15: ='Translate&Prices&Logo'!$B$255 -> NIP
E17: ='Translate&Prices&Logo'!$B$252 -> Telefon kontaktowy
E19: ='Translate&Prices&Logo'!$B$253 -> Adres e-mail
E21: ='Translate&Prices&Logo'!$B$256 -> Rabat na ramki | P21: %
K22: 0.2
E23: =IF(Hlavní!V39=3,"Dostawa","") -> Dostawa
K24: ↓↓↓ | L24: wpisz adres dostawy poniżej | P24: ↓↓↓
E25: =IF(Hlavní!V39=3,"Adres","") -> Adres
E29: =IF(K23="Dostawa na adres","W przypadku wyboru DOSTAWA NA ADRES do zamówienia zostanie automatycznie doliczona opłata transportowa. Aby uzyskać informacje o kosztach wysyłki powyżej 20 ramek, skontaktuj się z obsługą klienta: tel: 327908582, email: zamowienia@demos-trade.com","")
B34: ="<"&" "&'Translate&Prices&Logo'!$B$576 -> < Powrót | K34: Koszty transportu > | R34: ='Translate&Prices&Logo'!$B$568&" "&">" -> Kolejne > | U34: =IF('Translate&Prices&Logo'!D1=3,1,0) -> 1 | V34: =IF(K23="",0,1) -> 0 | W34: =IF(AND(U34=1,V34=1),1,0) -> 0 | X34: =IF(OR(W34=1,W35=1),1,0) -> 0
U35: ostatní jazyky | W35: =IF('Translate&Prices&Logo'!D1<>3,1,0) -> 0

Sheet cennik transportu PL
P2: ="Powrót" -> Powrót
B12: Ramki zmontowane ze szkłem / szkło :
C13: Pakowane w paczke | E13: Na palecie
B14: max wymiar ramki | C14: do 800 x 800 mm | D14: do 1400 x 800 mm | E14: do 2300 x 750 mm | F14: do 2750 x 750 mm
B15: cena | C15: 35,00 zł | D15: 35,00 zł | E15: 288,00 zł | F15: 332,00 zł
B16: w 1 paczce może być | C16: max 3 sztuki frontów | D16: max 2 sztuki frontów | E16: max 20 sztuki frontów
B18: Aby uzyskać informacje o kosztach wysyłki dla zamówień powyżej 20 ramek, skontaktuj się z obsługą klienta:
B21: Ramki w elementach, same profile (bez szkła): | P21: =IF(Posuv!I17="Dostawa na adres","Ramki przesuwne","")
B22: profile o max długości | C22: do 1400 mm | D22: 1401 - 2850 mm
B23: cena | C23: 35,00 zł | D23: 71,00 zł | P23: Zamówienie szkła
B24: w 1 paczce może być | C24: max 12 sztuki ramek | D24: max 6 sztuki ramek
B26: Przy dostawie na adres w jednym zamówieniu nie można łączyć ramki ze szkłem i bez szkła. | P26: Podsumowanie

Sheet Sklo
AJ1: 800 | AK1: 1400 | AL1: 2300 | AM1: 2750
Q2: ='Translate&Prices&Logo'!$B$542 -> Wprowadzenie | AJ2: 800 | AK2: 800 | AL2: 750
W3: =VLOOKUP(I24,V5:W7,2,0) -> #N/A | AJ3: balík A | AK3: balík B | AL3: paleta A | AM3: paleta B
AJ4: 35 | AK4: 35 | AL4: 288 | AM4: 332
V5: ='Translate&Prices&Logo'!B640 -> Bez modyfikacji | W5: 1 | AJ5: 3 | AK5: 2 | AL5: 20
V6: ='Translate&Prices&Logo'!B641 -> Hartowane (termin dostawy 4 tygodnie) | W6: 2 | AC6: max | AD6: min | AE6: Možné balení | AI6: nejmenší balík
V7: ='Translate&Prices&Logo'!B642 -> Folia | W7: 3 | Z7: {=IF(W3=1,_N1,IF(W3=2,_N2,IF(W3=3,_N3)))} -> #N/A | AC7: =MAX(I21:R22) -> 0 | AD7: =MIN(I21:R22) -> 0 | AE7: =IF(AND(IF($AD7<=AJ$2,"balík A","ne")="balík A",IF($AC$7<=AJ$1,"balík A","ne")="balík A",$AJ$3="balík A"),"balík A","ne") -> balík A | AF7: =IF(AND(IF($AD7<=AK$2,"balík B","ne")="balík B",IF($AC$7<=AK$1,"balík B","ne")="balík B",$AK$3="balík B"),"balík B","ne") -> balík B | AG7: =IF(AND(IF($AD7<=AL$2,"paleta A","ne")="paleta A",IF($AC$7<=AL$1,"paleta A","ne")="paleta A",$AL$3="paleta A"),"paleta A","ne") -> paleta A | AH7: =IF(AND(IF($AD7<=AL$2,"paleta B","ne")="paleta B",IF($AC$7<=AM$1,"paleta B","ne")="paleta B",$AM$3="paleta B"),"paleta B","ne") -> paleta B | AI7: =IF(AE7<>"NE",AE7,IF(AF7<>"NE",AF7,IF(AG7<>"NE",AG7,IF(AH7<>"Ne",AH7,"ne")))) -> balík A | AJ7: =HLOOKUP(AI7,AJ3:AM4,2,0) -> 35 | AK7: cena odpovídající rozměru
C8: ='Translate&Prices&Logo'!$B$251 -> Klient | Z8: #N/A | AJ8: =HLOOKUP(AI7,AJ3:AM5,3,0) -> 3 | AK8: max počet v balíku
U9: =IF(W3=2,'Translate&Prices&Logo'!C96,0) -> #N/A | V9: Kalení cena | Z9: #N/A | AE9: =IF(AND(Hlavní!V39=3,I16="Dostawa na adres"),IF(AE8=6,AJ7,HLOOKUP(AE8,AE6:AI7,2,0)),0) -> 0 | AJ9: =I30 -> 0 | AK9: počet ks
C10: ='Translate&Prices&Logo'!$B$255 -> NIP | U10: =IFERROR(IF(W3=3,(VLOOKUP(I27,'Translate&Prices&Logo'!B93:C95,2,0))*((I21/1000)*(I22/1000)),0),0) -> 0 | V10: Folie cena | Z10: #N/A | AJ10: =CEILING(AJ9/AJ8,1) -> 0 | AK10: počet balíků
Z11: #N/A | AJ11: =AJ10*AJ7 -> 0 | AK11: cena
C12: ='Translate&Prices&Logo'!$B$252 -> Telefon kontaktowy | V12: ='Translate&Prices&Logo'!B97 -> Połysk | Z12: #N/A
V13: ='Translate&Prices&Logo'!B98 -> Matowy | Z13: #N/A
C14: ='Translate&Prices&Logo'!$B$725 -> Rabat | Z14: #N/A
Z15: #N/A
C16: =IF(Hlavní!V39=3,"Dostawa","") -> Dostawa | V16: =VLOOKUP(I29,'Translate&Prices&Logo'!B97:C98,2,0) -> #N/A | W16: =V16*(2*(I21/1000))*(2*(I22/1000)) -> #N/A | Z16: #N/A
C17: =IF(I16="Dostawa na adres","W przypadku wyboru DOSTAWA NA ADRES do zamówienia zostanie automatycznie doliczona opłata transportowa","") | R17: =IF(I16="Dostawa na adres","Cennik transportu - kliknij tutaj","") | Z17: #N/A
C18: =IF(Hlavní!V39=3,"Adres","") -> Adres | Z18: #N/A
V19: =IFERROR((VLOOKUP(I28,'Translate&Prices&Logo'!B101:D165,2,0))*((I21/1000)*(I22/1000))+U9+U10+W16,0) -> 0 | Z19: #N/A
Z20: #N/A
C21: ='Translate&Prices&Logo'!$B$177 -> Szerokość | Z21: #N/A
C22: ='Translate&Prices&Logo'!$B$178 -> Wysokość | Z22: #N/A
V23: ='Translate&Prices&Logo'!B93 -> transparentna | Z23: #N/A
C24: ='Translate&Prices&Logo'!$B$175 -> Rodzaj szkła | V24: ='Translate&Prices&Logo'!B94 -> Biała | Z24: #N/A
V25: ='Translate&Prices&Logo'!B95 -> czarna | Z25: #N/A
I26: ="↥↥"&" "&'Translate&Prices&Logo'!$B$575&" "&C28&" "&"↥↥" -> ↥↥ Nie zmieniaj po wybraniu rodzaj szkła/siatka Rodzaj szkła/siatka ↥↥ | Z26: #N/A
C27: ='Translate&Prices&Logo'!$B$564 -> Rodzaj folii | Z27: #N/A
C28: ='Translate&Prices&Logo'!$B$627 -> Rodzaj szkła/siatka | Z28: #N/A
C29: ='Translate&Prices&Logo'!$B$660 -> Szlifowanie krawędzi | Z29: #N/A
C30: =('Translate&Prices&Logo'!$B$176) -> Ilość sztuk | Z30: #N/A
Z31: #N/A
C32: ='Translate&Prices&Logo'!$B$694 -> Suma | M32: =V19*I30*(1-I14/100) -> 0 | R32: =VLOOKUP('Translate&Prices&Logo'!D1,'závěsy dle výklopu'!A204:B209,2,0) -> zl | Z32: #N/A
Z33: #N/A
Z34: #N/A
C35: =IF(I16="Dostawa na adres","Koszt transportu","") | M35: =IF(AND(I16="Dostawa na adres",I30>0),AJ11,"") | R35: =VLOOKUP('Translate&Prices&Logo'!D1,'závěsy dle výklopu'!A204:B209,2,0) -> zl | Z35: #N/A
Z36: #N/A
Z37: #N/A
Z38: #N/A
Z39: #N/A
Z40: #N/A
...

Sheet rozpad závěsů bez prázdn. řádků
A1: typ alurámečku | B1: značka závěsu | C1: naložení dvířek | E1: typ závěsu | F1: barva | G1: Hlavní výběr - concat | H1: závěs 95° | I1: závěs 110° | J1: závěs 120° | K1: ='Translate&Prices&Logo'!$B$630 -> krzyżakowy, wkręt | L1: 6 | M1: ='Translate&Prices&Logo'!$B$631 -> na wkręt (z mimośrodem) | N1: 8 | O1: ='Translate&Prices&Logo'!$B$632 -> krzyżakowy eurowkręt | P1: 10 | Q1: ='Translate&Prices&Logo'!$B$633 -> krzyżakowy expando | R1: 12 | S1: ='Translate&Prices&Logo'!$B$634 -> prosty wkręt | T1: 14 | U1: ='Translate&Prices&Logo'!$B$635 -> prosty eurowkręt | V1: 16 | W1: ='Translate&Prices&Logo'!$B$636 -> prosty expando | X1: 18 | AC1: =$K$1 -> krzyżakowy, wkręt | AD1: 6 | AE1: =VLOOKUP(Ram_1!$H$15,$G:$X,AD1,0) -> #N/A
A2: úzký | B2: BLUM | C2: ='Translate&Prices&Logo'!B555 -> Nakładany | D2: =VLOOKUP(CONCATENATE(A2,"_",B2,"_",C2),$A$69:$B$383,2,0) -> úzký_BLUM_Naložený | E2: ='Translate&Prices&Logo'!$B$584 -> ze sprężyną z tłumieniem | F2: ='Translate&Prices&Logo'!$B$587 -> srebro | G2: =CONCATENATE(H2," ","-"," ",C2," ",E2," - ",F2) -> 118033 - Nakładany ze sprężyną z tłumieniem - srebro | H2: 118033 | I2: - | J2: - | K2: 12306 | L2: =CONCATENATE($K$1," - ",K2) -> krzyżakowy, wkręt - 12306 | M2: N/A | N2: =CONCATENATE($M$1," - ",M2) -> na wkręt (z mimośrodem) - N/A | O2: 12318 | P2: =CONCATENATE($O$1," - ",O2) -> krzyżakowy eurowkręt - 12318 | Q2: 12302 | R2: =CONCATENATE($Q$1," - ",Q2) -> krzyżakowy expando - 12302 | S2: 203387 | T2: =CONCATENATE($S$1," - ",S2) -> prosty wkręt - 203387 | U2: 346624 | V2: =CONCATENATE($U$1," - ",U2) -> prosty eurowkręt - 346624 | W2: 211476 | X2: =CONCATENATE($W$1," - ",W2) -> prosty expando - 211476 | AC2: =$M$1 -> na wkręt (z mimośrodem) | AD2: 8 | AE2: =VLOOKUP(Ram_1!$H$15,$G:$X,AD2,0) -> #N/A
A3: úzký | B3: BLUM | C3: ='Translate&Prices&Logo'!B555 -> Nakładany | D3: =VLOOKUP(CONCATENATE(A3,"_",B3,"_",C3),$A$69:$B$383,2,0) -> úzký_BLUM_Naložený | E3: ='Translate&Prices&Logo'!$B$585 -> ze sprężyną bez tłumienia | F3: ='Translate&Prices&Logo'!$B$587 -> srebro | G3: =CONCATENATE(H3," ","-"," ",C3," ",E3," - ",F3) -> 12106 - Nakładany ze sprężyną bez tłumienia - srebro | H3: 12106 | I3: - | J3: - | K3: 12306 | L3: =CONCATENATE($K$1," - ",K3) -> krzyżakowy, wkręt - 12306 | M3: N/A | N3: =CONCATENATE($M$1," - ",M3) -> na wkręt (z mimośrodem) - N/A | O3: 12318 | P3: =CONCATENATE($O$1," - ",O3) -> krzyżakowy eurowkręt - 12318 | Q3: 12302 | R3: =CONCATENATE($Q$1," - ",Q3) -> krzyżakowy expando - 12302 | S3: 203387 | T3: =CONCATENATE($S$1," - ",S3) -> prosty wkręt - 203387 | U3: 346624 | V3: =CONCATENATE($U$1," - ",U3) -> prosty eurowkręt - 346624 | W3: 211476 | X3: =CONCATENATE($W$1," - ",W3) -> prosty expando - 211476 | AC3: =$O$1 -> krzyżakowy eurowkręt | AD3: 10 | AE3: =VLOOKUP(Ram_1!$H$15,$G:$X,AD3,0) -> #N/A
A4: úzký | B4: BLUM | C4: ='Translate&Prices&Logo'!B555 -> Nakładany | D4: =VLOOKUP(CONCATENATE(A4,"_",B4,"_",C4),$A$69:$B$383,2,0) -> úzký_BLUM_Naložený | E4: ='Translate&Prices&Logo'!$B$585 -> ze sprężyną bez tłumienia | F4: onyx | G4: =CONCATENATE(H4," ","-"," ",C4," ",E4," - ",F4) -> 306329 - Nakładany ze sprężyną bez tłumienia - onyx | H4: 306329 | I4: - | J4: - | K4: 458360 | L4: =CONCATENATE($K$1," - ",K4) -> krzyżakowy, wkręt - 458360 | M4: N/A | N4: =CONCATENATE($M$1," - ",M4) -> na wkręt (z mimośrodem) - N/A | O4: N/A | P4: =CONCATENATE($O$1," - ",O4) -> krzyżakowy eurowkręt - N/A | Q4: 347124 | R4: =CONCATENATE($Q$1," - ",Q4) -> krzyżakowy expando - 347124 | S4: 306320 | T4: =CONCATENATE($S$1," - ",S4) -> prosty wkręt - 306320 | U4: N/A | V4: =CONCATENATE($U$1," - ",U4) -> prosty eurowkręt - N/A | W4: 409651 | X4: =CONCATENATE($W$1," - ",W4) -> prosty expando - 409651 | AC4: =$Q$1 -> krzyżakowy expando | AD4: 12 | AE4: =VLOOKUP(Ram_1!$H$15,$G:$X,AD4,0) -> #N/A
A5: úzký | B5: BLUM | C5: ='Translate&Prices&Logo'!B555 -> Nakładany | D5: =VLOOKUP(CONCATENATE(A5,"_",B5,"_",C5),$A$69:$B$383,2,0) -> úzký_BLUM_Naložený | E5: ='Translate&Prices&Logo'!$B$586 -> tip-on bez sprężyny/tłumienie | F5: ='Translate&Prices&Logo'!$B$587 -> srebro | G5: =CONCATENATE(H5," ","-"," ",C5," ",E5," - ",F5) -> 12109 - Nakładany tip-on bez sprężyny/tłumienie - srebro | H5: 12109 | I5: - | J5: 13764 | K5: 12306 | L5: =CONCATENATE($K$1," - ",K5) -> krzyżakowy, wkręt - 12306 | M5: N/A | N5: =CONCATENATE($M$1," - ",M5) -> na wkręt (z mimośrodem) - N/A | O5: 12318 | P5: =CONCATENATE($O$1," - ",O5) -> krzyżakowy eurowkręt - 12318 | Q5: 12302 | R5: =CONCATENATE($Q$1," - ",Q5) -> krzyżakowy expando - 12302 | S5: 203387 | T5: =CONCATENATE($S$1," - ",S5) -> prosty wkręt - 203387 | U5: 346624 | V5: =CONCATENATE($U$1," - ",U5) -> prosty eurowkręt - 346624 | W5: 211476 | X5: =CONCATENATE($W$1," - ",W5) -> prosty expando - 211476 | AC5: =$S$1 -> prosty wkręt | AD5: 14 | AE5: =VLOOKUP(Ram_1!$H$15,$G:$X,AD5,0) -> #N/A
A6: úzký | B6: BLUM | C6: ='Translate&Prices&Logo'!B555 -> Nakładany | D6: =VLOOKUP(CONCATENATE(A6,"_",B6,"_",C6),$A$69:$B$383,2,0) -> úzký_BLUM_Naložený | E6: ='Translate&Prices&Logo'!$B$586 -> tip-on bez sprężyny/tłumienie | F6: onyx | G6: =CONCATENATE(H6," ","-"," ",C6," ",E6," - ",F6) -> 497120 - Nakładany tip-on bez sprężyny/tłumienie - onyx | H6: 497120 | Q6: 347124 | R6: =CONCATENATE($Q$1," - ",Q6) -> krzyżakowy expando - 347124 | S6: 306320 | T6: =CONCATENATE($S$1," - ",S6) -> prosty wkręt - 306320
A7: úzký | B7: BLUM | C7: ='Translate&Prices&Logo'!B556 -> Półnakładany | D7: =VLOOKUP(CONCATENATE(A7,"_",B7,"_",C7),$A$69:$B$383,2,0) -> úzký_BLUM_Polonaložený | E7: ='Translate&Prices&Logo'!$B$584 -> ze sprężyną z tłumieniem | F7: ='Translate&Prices&Logo'!$B$587 -> srebro | G7: =CONCATENATE(H7," ","-"," ",C7," ",E7," - ",F7) -> 118120 - Półnakładany ze sprężyną z tłumieniem - srebro | H7: 118120 | I7: - | J7: - | K7: 12306 | L7: =CONCATENATE($K$1," - ",K7) -> krzyżakowy, wkręt - 12306 | M7: N/A | N7: =CONCATENATE($M$1," - ",M7) -> na wkręt (z mimośrodem) - N/A | O7: 12318 | P7: =CONCATENATE($O$1," - ",O7) -> krzyżakowy eurowkręt - 12318 | Q7: 12302 | R7: =CONCATENATE($Q$1," - ",Q7) -> krzyżakowy expando - 12302 | S7: 203387 | T7: =CONCATENATE($S$1," - ",S7) -> prosty wkręt - 203387 | U7: 346624 | V7: =CONCATENATE($U$1," - ",U7) -> prosty eurowkręt - 346624 | W7: 211476 | X7: =CONCATENATE($W$1," - ",W7) -> prosty expando - 211476 | AC7: =$U$1 -> prosty eurowkręt | AD7: 16 | AE7: =VLOOKUP(Ram_1!$H$15,$G:$X,AD7,0) -> #N/A
A8: úzký | B8: BLUM | C8: ='Translate&Prices&Logo'!B556 -> Półnakładany | D8: =VLOOKUP(CONCATENATE(A8,"_",B8,"_",C8),$A$69:$B$383,2,0) -> úzký_BLUM_Polonaložený | E8: ='Translate&Prices&Logo'!$B$585 -> ze sprężyną bez tłumienia | F8: ='Translate&Prices&Logo'!$B$587 -> srebro | G8: =CONCATENATE(H8," ","-"," ",C8," ",E8," - ",F8) -> 12107 - Półnakładany ze sprężyną bez tłumienia - srebro | H8: 12107 | I8: - | J8: - | K8: 12306 | L8: =CONCATENATE($K$1," - ",K8) -> krzyżakowy, wkręt - 12306 | M8: N/A | N8: =CONCATENATE($M$1," - ",M8) -> na wkręt (z mimośrodem) - N/A | O8: 12318 | P8: =CONCATENATE($O$1," - ",O8) -> krzyżakowy eurowkręt - 12318 | Q8: 12302 | R8: =CONCATENATE($Q$1," - ",Q8) -> krzyżakowy expando - 12302 | S8: 203387 | T8: =CONCATENATE($S$1," - ",S8) -> prosty wkręt - 203387 | U8: 346624 | V8: =CONCATENATE($U$1," - ",U8) -> prosty eurowkręt - 346624 | W8: 211476 | X8: =CONCATENATE($W$1," - ",W8) -> prosty expando - 211476 | AC8: =$W$1 -> prosty expando | AD8: 18 | AE8: =VLOOKUP(Ram_1!$H$15,$G:$X,AD8,0) -> #N/A
A9: úzký | B9: BLUM | C9: ='Translate&Prices&Logo'!B557 -> Wpuszczany | D9: =VLOOKUP(CONCATENATE(A9,"_",B9,"_",C9),$A$69:$B$383,2,0) -> úzký_BLUM_Vložený | E9: ='Translate&Prices&Logo'!$B$584 -> ze sprężyną z tłumieniem | F9: ='Translate&Prices&Logo'!$B$587 -> srebro | G9: =CONCATENATE(H9," ","-"," ",C9," ",E9," - ",F9) -> 118121 - Wpuszczany ze sprężyną z tłumieniem - srebro | H9: 118121 | I9: - | J9: - | K9: 12306 | L9: =CONCATENATE($K$1," - ",K9) -> krzyżakowy, wkręt - 12306 | M9: N/A | N9: =CONCATENATE($M$1," - ",M9) -> na wkręt (z mimośrodem) - N/A | O9: 12318 | P9: =CONCATENATE($O$1," - ",O9) -> krzyżakowy eurowkręt - 12318 | Q9: 12302 | R9: =CONCATENATE($Q$1," - ",Q9) -> krzyżakowy expando - 12302 | S9: 203387 | T9: =CONCATENATE($S$1," - ",S9) -> prosty wkręt - 203387 | U9: 346624 | V9: =CONCATENATE($U$1," - ",U9) -> prosty eurowkręt - 346624 | W9: 211476 | X9: =CONCATENATE($W$1," - ",W9) -> prosty expando - 211476
A10: úzký | B10: BLUM | C10: ='Translate&Prices&Logo'!B557 -> Wpuszczany | D10: =VLOOKUP(CONCATENATE(A10,"_",B10,"_",C10),$A$69:$B$383,2,0) -> úzký_BLUM_Vložený | E10: ='Translate&Prices&Logo'!$B$585 -> ze sprężyną bez tłumienia | F10: ='Translate&Prices&Logo'!$B$587 -> srebro | G10: =CONCATENATE(H10," ","-"," ",C10," ",E10," - ",F10) -> 12108 - Wpuszczany ze sprężyną bez tłumienia - srebro | H10: 12108 | I10: - | J10: - | K10: 12306 | L10: =CONCATENATE($K$1," - ",K10) -> krzyżakowy, wkręt - 12306 | M10: N/A | N10: =CONCATENATE($M$1," - ",M10) -> na wkręt (z mimośrodem) - N/A | O10: 12318 | P10: =CONCATENATE($O$1," - ",O10) -> krzyżakowy eurowkręt - 12318 | Q10: 12302 | R10: =CONCATENATE($Q$1," - ",Q10) -> krzyżakowy expando - 12302 | S10: 203387 | T10: =CONCATENATE($S$1," - ",S10) -> prosty wkręt - 203387 | U10: 346624 | V10: =CONCATENATE($U$1," - ",U10) -> prosty eurowkręt - 346624 | W10: 211476 | X10: =CONCATENATE($W$1," - ",W10) -> prosty expando - 211476
A11: úzký | B11: HETTICH | C11: ='Translate&Prices&Logo'!B555 -> Nakładany | D11: =VLOOKUP(CONCATENATE(A11,"_",B11,"_",C11),$A$69:$B$383,2,0) -> úzký_HETTICH_Naložený | E11: ='Translate&Prices&Logo'!$B$584 -> ze sprężyną z tłumieniem | F11: ='Translate&Prices&Logo'!$B$587 -> srebro | G11: =CONCATENATE(H11," ","-"," ",C11," ",E11," - ",F11) -> 300279 - Nakładany ze sprężyną z tłumieniem - srebro | H11: 300279 | I11: - | J11: - | K11: 106403 | L11: =CONCATENATE($K$1," - ",K11) -> krzyżakowy, wkręt - 106403 | M11: N/A | N11: =CONCATENATE($M$1," - ",M11) -> na wkręt (z mimośrodem) - N/A | O11: 119240 | P11: =CONCATENATE($O$1," - ",O11) -> krzyżakowy eurowkręt - 119240 | Q11: 136276 | R11: =CONCATENATE($Q$1," - ",Q11) -> krzyżakowy expando - 136276 | S11: 300319 | T11: =CONCATENATE($S$1," - ",S11) -> prosty wkręt - 300319 | U11: N/A | V11: =CONCATENATE($U$1," - ",U11) -> prosty eurowkręt - N/A | W11: N/A | X11: =CONCATENATE($W$1," - ",W11) -> prosty expando - N/A
A12: úzký | B12: HETTICH | C12: ='Translate&Prices&Logo'!B555 -> Nakładany | D12: =VLOOKUP(CONCATENATE(A12,"_",B12,"_",C12),$A$69:$B$383,2,0) -> úzký_HETTICH_Naložený | E12: ='Translate&Prices&Logo'!$B$584 -> ze sprężyną z tłumieniem | F12: ='Translate&Prices&Logo'!$B$588 -> czarny | G12: =CONCATENATE(H12," ","-"," ",C12," ",E12," - ",F12) -> 344697 - Nakładany ze sprężyną z tłumieniem - czarny | H12: 344697 | I12: - | J12: - | K12: N/A | L12: =CONCATENATE($K$1," - ",K12) -> krzyżakowy, wkręt - N/A | M12: N/A | N12: =CONCATENATE($M$1," - ",M12) -> na wkręt (z mimośrodem) - N/A | O12: N/A | P12: =CONCATENATE($O$1," - ",O12) -> krzyżakowy eurowkręt - N/A | Q12: 344727 | R12: =CONCATENATE($Q$1," - ",Q12) -> krzyżakowy expando - 344727 | S12: 397949 | T12: =CONCATENATE($S$1," - ",S12) -> prosty wkręt - 397949 | U12: N/A | V12: =CONCATENATE($U$1," - ",U12) -> prosty eurowkręt - N/A | W12: N/A | X12: =CONCATENATE($W$1," - ",W12) -> prosty expando - N/A
A13: úzký | B13: HETTICH | C13: ='Translate&Prices&Logo'!B555 -> Nakładany | D13: =VLOOKUP(CONCATENATE(A13,"_",B13,"_",C13),$A$69:$B$383,2,0) -> úzký_HETTICH_Naložený | E13: ='Translate&Prices&Logo'!$B$585 -> ze sprężyną bez tłumienia | F13: ='Translate&Prices&Logo'!$B$587 -> srebro | G13: =CONCATENATE(H13," ","-"," ",C13," ",E13," - ",F13) -> 300282 - Nakładany ze sprężyną bez tłumienia - srebro | H13: 300282 | I13: - | J13: - | K13: 106403 | L13: =CONCATENATE($K$1," - ",K13) -> krzyżakowy, wkręt - 106403 | M13: N/A | N13: =CONCATENATE($M$1," - ",M13) -> na wkręt (z mimośrodem) - N/A | O13: 119240 | P13: =CONCATENATE($O$1," - ",O13) -> krzyżakowy eurowkręt - 119240 | Q13: 136276 | R13: =CONCATENATE($Q$1," - ",Q13) -> krzyżakowy expando - 136276 | S13: 300319 | T13: =CONCATENATE($S$1," - ",S13) -> prosty wkręt - 300319 | U13: N/A | V13: =CONCATENATE($U$1," - ",U13) -> prosty eurowkręt - N/A | W13: N/A | X13: =CONCATENATE($W$1," - ",W13) -> prosty expando - N/A
A14: úzký | B14: HETTICH | C14: ='Translate&Prices&Logo'!B555 -> Nakładany | D14: =VLOOKUP(CONCATENATE(A14,"_",B14,"_",C14),$A$69:$B$383,2,0) -> úzký_HETTICH_Naložený | E14: ='Translate&Prices&Logo'!$B$586 -> tip-on bez sprężyny/tłumienie | F14: ='Translate&Prices&Logo'!$B$587 -> srebro | G14: =CONCATENATE(H14," ","-"," ",C14," ",E14," - ",F14) -> 300285 - Nakładany tip-on bez sprężyny/tłumienie - srebro | H14: 300285 | I14: - | J14: - | K14: 106403 | L14: =CONCATENATE($K$1," - ",K14) -> krzyżakowy, wkręt - 106403 | M14: N/A | N14: =CONCATENATE($M$1," - ",M14) -> na wkręt (z mimośrodem) - N/A | O14: 119240 | P14: =CONCATENATE($O$1," - ",O14) -> krzyżakowy eurowkręt - 119240 | Q14: 136276 | R14: =CONCATENATE($Q$1," - ",Q14) -> krzyżakowy expando - 136276 | S14: 300319 | T14: =CONCATENATE($S$1," - ",S14) -> prosty wkręt - 300319 | U14: N/A | V14: =CONCATENATE($U$1," - ",U14) -> prosty eurowkręt - N/A | W14: N/A | X14: =CONCATENATE($W$1," - ",W14) -> prosty expando - N/A
A15: úzký | B15: HETTICH | C15: ='Translate&Prices&Logo'!B556 -> Półnakładany | D15: =VLOOKUP(CONCATENATE(A15,"_",B15,"_",C15),$A$69:$B$383,2,0) -> úzký_HETTICH_Polonaložený | E15: ='Translate&Prices&Logo'!$B$584 -> ze sprężyną z tłumieniem | F15: ='Translate&Prices&Logo'!$B$587 -> srebro | G15: =CONCATENATE(H15," ","-"," ",C15," ",E15," - ",F15) -> 300280 - Półnakładany ze sprężyną z tłumieniem - srebro | H15: 300280 | I15: - | J15: - | K15: 106403 | L15: =CONCATENATE($K$1," - ",K15) -> krzyżakowy, wkręt - 106403 | M15: N/A | N15: =CONCATENATE($M$1," - ",M15) -> na wkręt (z mimośrodem) - N/A | O15: 119240 | P15: =CONCATENATE($O$1," - ",O15) -> krzyżakowy eurowkręt - 119240 | Q15: 136276 | R15: =CONCATENATE($Q$1," - ",Q15) -> krzyżakowy expando - 136276 | S15: 300319 | T15: =CONCATENATE($S$1," - ",S15) -> prosty wkręt - 300319 | U15: N/A | V15: =CONCATENATE($U$1," - ",U15) -> prosty eurowkręt - N/A | W15: N/A | X15: =CONCATENATE($W$1," - ",W15) -> prosty expando - N/A
A16: úzký | B16: HETTICH | C16: ='Translate&Prices&Logo'!B556 -> Półnakładany | D16: =VLOOKUP(CONCATENATE(A16,"_",B16,"_",C16),$A$69:$B$383,2,0) -> úzký_HETTICH_Polonaložený | E16: ='Translate&Prices&Logo'!$B$585 -> ze sprężyną bez tłumienia | F16: ='Translate&Prices&Logo'!$B$587 -> srebro | G16: =CONCATENATE(H16," ","-"," ",C16," ",E16," - ",F16) -> 300283 - Półnakładany ze sprężyną bez tłumienia - srebro | H16: 300283 | I16: - | J16: - | K16: 106403 | L16: =CONCATENATE($K$1," - ",K16) -> krzyżakowy, wkręt - 106403 | M16: N/A | N16: =CONCATENATE($M$1," - ",M16) -> na wkręt (z mimośrodem) - N/A | O16: 119240 | P16: =CONCATENATE($O$1," - ",O16) -> krzyżakowy eurowkręt - 119240 | Q16: 136276 | R16: =CONCATENATE($Q$1," - ",Q16) -> krzyżakowy expando - 136276 | S16: 300319 | T16: =CONCATENATE($S$1," - ",S16) -> prosty wkręt - 300319 | U16: N/A | V16: =CONCATENATE($U$1," - ",U16) -> prosty eurowkręt - N/A | W16: N/A | X16: =CONCATENATE($W$1," - ",W16) -> prosty expando - N/A
A17: úzký | B17: HETTICH | C17: ='Translate&Prices&Logo'!B556 -> Półnakładany | D17: =VLOOKUP(CONCATENATE(A17,"_",B17,"_",C17),$A$69:$B$383,2,0) -> úzký_HETTICH_Polonaložený | E17: ='Translate&Prices&Logo'!$B$586 -> tip-on bez sprężyny/tłumienie | F17: ='Translate&Prices&Logo'!$B$587 -> srebro | G17: =CONCATENATE(H17," ","-"," ",C17," ",E17," - ",F17) -> 300286 - Półnakładany tip-on bez sprężyny/tłumienie - srebro | H17: 300286 | I17: - | J17: - | K17: 106403 | L17: =CONCATENATE($K$1," - ",K17) -> krzyżakowy, wkręt - 106403 | M17: N/A | N17: =CONCATENATE($M$1," - ",M17) -> na wkręt (z mimośrodem) - N/A | O17: 119240 | P17: =CONCATENATE($O$1," - ",O17) -> krzyżakowy eurowkręt - 119240 | Q17: 136276 | R17: =CONCATENATE($Q$1," - ",Q17) -> krzyżakowy expando - 136276 | S17: 300319 | T17: =CONCATENATE($S$1," - ",S17) -> prosty wkręt - 300319 | U17: N/A | V17: =CONCATENATE($U$1," - ",U17) -> prosty eurowkręt - N/A | W17: N/A | X17: =CONCATENATE($W$1," - ",W17) -> prosty expando - N/A
A18: úzký | B18: HETTICH | C18: ='Translate&Prices&Logo'!B557 -> Wpuszczany | D18: =VLOOKUP(CONCATENATE(A18,"_",B18,"_",C18),$A$69:$B$383,2,0) -> úzký_HETTICH_Vložený | E18: ='Translate&Prices&Logo'!$B$584 -> ze sprężyną z tłumieniem | F18: ='Translate&Prices&Logo'!$B$587 -> srebro | G18: =CONCATENATE(H18," ","-"," ",C18," ",E18," - ",F18) -> 300281 - Wpuszczany ze sprężyną z tłumieniem - srebro | H18: 300281 | I18: - | J18: - | K18: 106403 | L18: =CONCATENATE($K$1," - ",K18) -> krzyżakowy, wkręt - 106403 | M18: N/A | N18: =CONCATENATE($M$1," - ",M18) -> na wkręt (z mimośrodem) - N/A | O18: 119240 | P18: =CONCATENATE($O$1," - ",O18) -> krzyżakowy eurowkręt - 119240 | Q18: 136276 | R18: =CONCATENATE($Q$1," - ",Q18) -> krzyżakowy expando - 136276 | S18: 300319 | T18: =CONCATENATE($S$1," - ",S18) -> prosty wkręt - 300319 | U18: N/A | V18: =CONCATENATE($U$1," - ",U18) -> prosty eurowkręt - N/A | W18: N/A | X18: =CONCATENATE($W$1," - ",W18) -> prosty expando - N/A
A19: úzký | B19: HETTICH | C19: ='Translate&Prices&Logo'!B557 -> Wpuszczany | D19: =VLOOKUP(CONCATENATE(A19,"_",B19,"_",C19),$A$69:$B$383,2,0) -> úzký_HETTICH_Vložený | E19: ='Translate&Prices&Logo'!$B$585 -> ze sprężyną bez tłumienia | F19: ='Translate&Prices&Logo'!$B$587 -> srebro | G19: =CONCATENATE(H19," ","-"," ",C19," ",E19," - ",F19) -> 300284 - Wpuszczany ze sprężyną bez tłumienia - srebro | H19: 300284 | I19: - | J19: - | K19: 106403 | L19: =CONCATENATE($K$1," - ",K19) -> krzyżakowy, wkręt - 106403 | M19: N/A | N19: =CONCATENATE($M$1," - ",M19) -> na wkręt (z mimośrodem) - N/A | O19: 119240 | P19: =CONCATENATE($O$1," - ",O19) -> krzyżakowy eurowkręt - 119240 | Q19: 136276 | R19: =CONCATENATE($Q$1," - ",Q19) -> krzyżakowy expando - 136276 | S19: 300319 | T19: =CONCATENATE($S$1," - ",S19) -> prosty wkręt - 300319 | U19: N/A | V19: =CONCATENATE($U$1," - ",U19) -> prosty eurowkręt - N/A | W19: N/A | X19: =CONCATENATE($W$1," - ",W19) -> prosty expando - N/A
A20: úzký | B20: HETTICH | C20: ='Translate&Prices&Logo'!B557 -> Wpuszczany | D20: =VLOOKUP(CONCATENATE(A20,"_",B20,"_",C20),$A$69:$B$383,2,0) -> úzký_HETTICH_Vložený | E20: ='Translate&Prices&Logo'!$B$586 -> tip-on bez sprężyny/tłumienie | F20: ='Translate&Prices&Logo'!$B$587 -> srebro | G20: =CONCATENATE(H20," ","-"," ",C20," ",E20," - ",F20) -> 300287 - Wpuszczany tip-on bez sprężyny/tłumienie - srebro | H20: 300287 | I20: - | J20: - | K20: 106403 | L20: =CONCATENATE($K$1," - ",K20) -> krzyżakowy, wkręt - 106403 | M20: N/A | N20: =CONCATENATE($M$1," - ",M20) -> na wkręt (z mimośrodem) - N/A | O20: 119240 | P20: =CONCATENATE($O$1," - ",O20) -> krzyżakowy eurowkręt - 119240 | Q20: 136276 | R20: =CONCATENATE($Q$1," - ",Q20) -> krzyżakowy expando - 136276 | S20: 300319 | T20: =CONCATENATE($S$1," - ",S20) -> prosty wkręt - 300319 | U20: N/A | V20: =CONCATENATE($U$1," - ",U20) -> prosty eurowkręt - N/A | W20: N/A | X20: =CONCATENATE($W$1," - ",W20) -> prosty expando - N/A
A21: úzký | B21: STRONG | C21: ='Translate&Prices&Logo'!B555 -> Nakładany | D21: =VLOOKUP(CONCATENATE(A21,"_",B21,"_",C21),$A$69:$B$383,2,0) -> úzký_STRONG_Naložený | E21: ='Translate&Prices&Logo'!$B$584 -> ze sprężyną z tłumieniem | F21: ='Translate&Prices&Logo'!$B$587 -> srebro | G21: =CONCATENATE(I21," ","-"," ",C21," ",E21," - ",F21) -> 92584T - Nakładany ze sprężyną z tłumieniem - srebro | H21: - | I21: 92584T | J21: - | K21: 92590T | L21: =CONCATENATE($K$1," - ",K21) -> krzyżakowy, wkręt - 92590T | M21: 92594T | N21: =CONCATENATE($M$1," - ",M21) -> na wkręt (z mimośrodem) - 92594T | O21: 92591T | P21: =CONCATENATE($O$1," - ",O21) -> krzyżakowy eurowkręt - 92591T | Q21: N/A | R21: =CONCATENATE($Q$1," - ",Q21) -> krzyżakowy expando - N/A | S21: N/A | T21: =CONCATENATE($S$1," - ",S21) -> prosty wkręt - N/A | U21: N/A | V21: =CONCATENATE($U$1," - ",U21) -> prosty eurowkręt - N/A | W21: N/A | X21: =CONCATENATE($W$1," - ",W21) -> prosty expando - N/A
A22: úzký | B22: STRONGHINGES | C22: ='Translate&Prices&Logo'!B555 -> Nakładany | D22: =VLOOKUP(CONCATENATE(A22,"_",B22,"_",C22),$A$69:$B$383,2,0) -> #N/A | E22: ='Translate&Prices&Logo'!$B$584 -> ze sprężyną z tłumieniem | F22: ='Translate&Prices&Logo'!$B$587 -> srebro | G22: =CONCATENATE(I22," ","-"," ",C22," ",E22," - ",F22) -> 350863 - Nakładany ze sprężyną z tłumieniem - srebro | H22: - | I22: 350863 | J22: - | K22: 92596 | L22: =CONCATENATE($K$1," - ",K22) -> krzyżakowy, wkręt - 92596 | M22: 315856 | N22: =CONCATENATE($M$1," - ",M22) -> na wkręt (z mimośrodem) - 315856 | O22: 92597 | P22: =CONCATENATE($O$1," - ",O22) -> krzyżakowy eurowkręt - 92597 | Q22: N/A | R22: =CONCATENATE($Q$1," - ",Q22) -> krzyżakowy expando - N/A | S22: N/A | T22: =CONCATENATE($S$1," - ",S22) -> prosty wkręt - N/A | U22: N/A | V22: =CONCATENATE($U$1," - ",U22) -> prosty eurowkręt - N/A | W22: N/A | X22: =CONCATENATE($W$1," - ",W22) -> prosty expando - N/A
A23: úzký | B23: STRONGHINGES | C23: ='Translate&Prices&Logo'!B555 -> Nakładany | D23: =VLOOKUP(CONCATENATE(A23,"_",B23,"_",C23),$A$69:$B$383,2,0) -> #N/A | E23: ='Translate&Prices&Logo'!$B$586 -> tip-on bez sprężyny/tłumienie | F23: ='Translate&Prices&Logo'!$B$587 -> srebro | G23: =CONCATENATE(I23," ","-"," ",C23," ",E23," - ",F23) -> 350864 - Nakładany tip-on bez sprężyny/tłumienie - srebro | H23: - | I23: 350864 | J23: - | K23: 92596 | L23: =CONCATENATE($K$1," - ",K23) -> krzyżakowy, wkręt - 92596 | M23: 315856 | N23: =CONCATENATE($M$1," - ",M23) -> na wkręt (z mimośrodem) - 315856 | O23: 92597 | P23: =CONCATENATE($O$1," - ",O23) -> krzyżakowy eurowkręt - 92597 | Q23: N/A | R23: =CONCATENATE($Q$1," - ",Q23) -> krzyżakowy expando - N/A | S23: N/A | T23: =CONCATENATE($S$1," - ",S23) -> prosty wkręt - N/A | U23: N/A | V23: =CONCATENATE($U$1," - ",U23) -> prosty eurowkręt - N/A | W23: N/A | X23: =CONCATENATE($W$1," - ",W23) -> prosty expando - N/A
A24: široký | B24: BLUM | C24: ='Translate&Prices&Logo'!B555 -> Nakładany | D24: =VLOOKUP(CONCATENATE(A24,"_",B24,"_",C24),$A$69:$B$383,2,0) -> široký_BLUM_Naložený | E24: ='Translate&Prices&Logo'!$B$584 -> ze sprężyną z tłumieniem | F24: ='Translate&Prices&Logo'!$B$587 -> srebro | G24: =CONCATENATE(I24," ","-"," ",C24," ",E24," - ",F24) -> 12047 - Nakładany ze sprężyną z tłumieniem - srebro | H24: - | I24: 12047 | J24: - | K24: 12306 | L24: =CONCATENATE($K$1," - ",K24) -> krzyżakowy, wkręt - 12306 | M24: N/A | N24: =CONCATENATE($M$1," - ",M24) -> na wkręt (z mimośrodem) - N/A | O24: 12318 | P24: =CONCATENATE($O$1," - ",O24) -> krzyżakowy eurowkręt - 12318 | Q24: 12302 | R24: =CONCATENATE($Q$1," - ",Q24) -> krzyżakowy expando - 12302 | S24: 203387 | T24: =CONCATENATE($S$1," - ",S24) -> prosty wkręt - 203387 | U24: 346624 | V24: =CONCATENATE($U$1," - ",U24) -> prosty eurowkręt - 346624 | W24: 211476 | X24: =CONCATENATE($W$1," - ",W24) -> prosty expando - 211476
A25: široký | B25: BLUM | C25: ='Translate&Prices&Logo'!B555 -> Nakładany | D25: =VLOOKUP(CONCATENATE(A25,"_",B25,"_",C25),$A$69:$B$383,2,0) -> široký_BLUM_Naložený | E25: ='Translate&Prices&Logo'!$B$584 -> ze sprężyną z tłumieniem | F25: ='Translate&Prices&Logo'!$B$588 -> czarny | G25: =CONCATENATE(I25," ","-"," ",C25," ",E25," - ",F25) -> 306317 - Nakładany ze sprężyną z tłumieniem - czarny | H25: - | I25: 306317 | J25: - | K25: 458360 | L25: =CONCATENATE($K$1," - ",K25) -> krzyżakowy, wkręt - 458360 | M25: N/A | N25: =CONCATENATE($M$1," - ",M25) -> na wkręt (z mimośrodem) - N/A | O25: N/A | P25: =CONCATENATE($O$1," - ",O25) -> krzyżakowy eurowkręt - N/A | Q25: 347124 | R25: =CONCATENATE($Q$1," - ",Q25) -> krzyżakowy expando - 347124 | S25: 306320 | T25: =CONCATENATE($S$1," - ",S25) -> prosty wkręt - 306320 | U25: N/A | V25: =CONCATENATE($U$1," - ",U25) -> prosty eurowkręt - N/A | W25: 409651 | X25: =CONCATENATE($W$1," - ",W25) -> prosty expando - 409651
A26: široký | B26: BLUM | C26: ='Translate&Prices&Logo'!B555 -> Nakładany | D26: =VLOOKUP(CONCATENATE(A26,"_",B26,"_",C26),$A$69:$B$383,2,0) -> široký_BLUM_Naložený | E26: ='Translate&Prices&Logo'!$B$585 -> ze sprężyną bez tłumienia | F26: ='Translate&Prices&Logo'!$B$587 -> srebro | G26: =CONCATENATE(I26," ","-"," ",C26," ",E26," - ",F26) -> 12052 - Nakładany ze sprężyną bez tłumienia - srebro | H26: - | I26: 12052 | J26: - | K26: 12306 | L26: =CONCATENATE($K$1," - ",K26) -> krzyżakowy, wkręt - 12306 | M26: N/A | N26: =CONCATENATE($M$1," - ",M26) -> na wkręt (z mimośrodem) - N/A | O26: 12318 | P26: =CONCATENATE($O$1," - ",O26) -> krzyżakowy eurowkręt - 12318 | Q26: 12302 | R26: =CONCATENATE($Q$1," - ",Q26) -> krzyżakowy expando - 12302 | S26: 203387 | T26: =CONCATENATE($S$1," - ",S26) -> prosty wkręt - 203387 | U26: 346624 | V26: =CONCATENATE($U$1," - ",U26) -> prosty eurowkręt - 346624 | W26: 211476 | X26: =CONCATENATE($W$1," - ",W26) -> prosty expando - 211476
A27: široký | B27: BLUM | C27: ='Translate&Prices&Logo'!B555 -> Nakładany | D27: =VLOOKUP(CONCATENATE(A27,"_",B27,"_",C27),$A$69:$B$383,2,0) -> široký_BLUM_Naložený | E27: ='Translate&Prices&Logo'!$B$586 -> tip-on bez sprężyny/tłumienie | F27: ='Translate&Prices&Logo'!$B$587 -> srebro | G27: =CONCATENATE(I27," ","-"," ",C27," ",E27," - ",F27) -> 226668 - Nakładany tip-on bez sprężyny/tłumienie - srebro | H27: - | I27: 226668 | J27: - | K27: 12306 | L27: =CONCATENATE($K$1," - ",K27) -> krzyżakowy, wkręt - 12306 | M27: N/A | N27: =CONCATENATE($M$1," - ",M27) -> na wkręt (z mimośrodem) - N/A | O27: 12318 | P27: =CONCATENATE($O$1," - ",O27) -> krzyżakowy eurowkręt - 12318 | Q27: 12302 | R27: =CONCATENATE($Q$1," - ",Q27) -> krzyżakowy expando - 12302 | S27: 203387 | T27: =CONCATENATE($S$1," - ",S27) -> prosty wkręt - 203387 | U27: 346624 | V27: =CONCATENATE($U$1," - ",U27) -> prosty eurowkręt - 346624 | W27: 211476 | X27: =CONCATENATE($W$1," - ",W27) -> prosty expando - 211476
A28: široký | B28: BLUM | C28: ='Translate&Prices&Logo'!B555 -> Nakładany | D28: =VLOOKUP(CONCATENATE(A28,"_",B28,"_",C28),$A$69:$B$383,2,0) -> široký_BLUM_Naložený | E28: ='Translate&Prices&Logo'!$B$586 -> tip-on bez sprężyny/tłumienie | F28: onyx | G28: =CONCATENATE(H28," ","-"," ",C28," ",E28," - ",F28) -> 318173 - Nakładany tip-on bez sprężyny/tłumienie - onyx | H28: 318173 | Q28: 347124 | R28: =CONCATENATE($Q$1," - ",Q28) -> krzyżakowy expando - 347124 | S28: 306320 | T28: =CONCATENATE($S$1," - ",S28) -> prosty wkręt - 306320
A29: široký | B29: BLUM | C29: ='Translate&Prices&Logo'!B556 -> Półnakładany | D29: =VLOOKUP(CONCATENATE(A29,"_",B29,"_",C29),$A$69:$B$383,2,0) -> široký_BLUM_Polonaložený | E29: ='Translate&Prices&Logo'!$B$584 -> ze sprężyną z tłumieniem | F29: ='Translate&Prices&Logo'!$B$587 -> srebro | G29: =CONCATENATE(I29," ","-"," ",C29," ",E29," - ",F29) -> 12048 - Półnakładany ze sprężyną z tłumieniem - srebro | H29: - | I29: 12048 | J29: - | K29: 12306 | L29: =CONCATENATE($K$1," - ",K29) -> krzyżakowy, wkręt - 12306 | M29: N/A | N29: =CONCATENATE($M$1," - ",M29) -> na wkręt (z mimośrodem) - N/A | O29: 12318 | P29: =CONCATENATE($O$1," - ",O29) -> krzyżakowy eurowkręt - 12318 | Q29: 12302 | R29: =CONCATENATE($Q$1," - ",Q29) -> krzyżakowy expando - 12302 | S29: 203387 | T29: =CONCATENATE($S$1," - ",S29) -> prosty wkręt - 203387 | U29: 346624 | V29: =CONCATENATE($U$1," - ",U29) -> prosty eurowkręt - 346624 | W29: 211476 | X29: =CONCATENATE($W$1," - ",W29) -> prosty expando - 211476
A30: široký | B30: BLUM | C30: ='Translate&Prices&Logo'!B556 -> Półnakładany | D30: =VLOOKUP(CONCATENATE(A30,"_",B30,"_",C30),$A$69:$B$383,2,0) -> široký_BLUM_Polonaložený | E30: ='Translate&Prices&Logo'!$B$584 -> ze sprężyną z tłumieniem | F30: ='Translate&Prices&Logo'!$B$588 -> czarny | G30: =CONCATENATE(I30," ","-"," ",C30," ",E30," - ",F30) -> 306318 - Półnakładany ze sprężyną z tłumieniem - czarny | H30: - | I30: 306318 | J30: - | K30: 458360 | L30: =CONCATENATE($K$1," - ",K30) -> krzyżakowy, wkręt - 458360 | M30: N/A | N30: =CONCATENATE($M$1," - ",M30) -> na wkręt (z mimośrodem) - N/A | O30: N/A | P30: =CONCATENATE($O$1," - ",O30) -> krzyżakowy eurowkręt - N/A | Q30: 347124 | R30: =CONCATENATE($Q$1," - ",Q30) -> krzyżakowy expando - 347124 | S30: 306320 | T30: =CONCATENATE($S$1," - ",S30) -> prosty wkręt - 306320 | U30: N/A | V30: =CONCATENATE($U$1," - ",U30) -> prosty eurowkręt - N/A | W30: 409651 | X30: =CONCATENATE($W$1," - ",W30) -> prosty expando - 409651
A31: široký | B31: BLUM | C31: ='Translate&Prices&Logo'!B556 -> Półnakładany | D31: =VLOOKUP(CONCATENATE(A31,"_",B31,"_",C31),$A$69:$B$383,2,0) -> široký_BLUM_Polonaložený | E31: ='Translate&Prices&Logo'!$B$585 -> ze sprężyną bez tłumienia | F31: ='Translate&Prices&Logo'!$B$587 -> srebro | G31: =CONCATENATE(I31," ","-"," ",C31," ",E31," - ",F31) -> 12053 - Półnakładany ze sprężyną bez tłumienia - srebro | H31: - | I31: 12053 | J31: - | K31: 12306 | L31: =CONCATENATE($K$1," - ",K31) -> krzyżakowy, wkręt - 12306 | M31: N/A | N31: =CONCATENATE($M$1," - ",M31) -> na wkręt (z mimośrodem) - N/A | O31: 12318 | P31: =CONCATENATE($O$1," - ",O31) -> krzyżakowy eurowkręt - 12318 | Q31: 12302 | R31: =CONCATENATE($Q$1," - ",Q31) -> krzyżakowy expando - 12302 | S31: 203387 | T31: =CONCATENATE($S$1," - ",S31) -> prosty wkręt - 203387 | U31: 346624 | V31: =CONCATENATE($U$1," - ",U31) -> prosty eurowkręt - 346624 | W31: 211476 | X31: =CONCATENATE($W$1," - ",W31) -> prosty expando - 211476
A32: široký | B32: BLUM | C32: ='Translate&Prices&Logo'!B556 -> Półnakładany | D32: =VLOOKUP(CONCATENATE(A32,"_",B32,"_",C32),$A$69:$B$383,2,0) -> široký_BLUM_Polonaložený | E32: ='Translate&Prices&Logo'!$B$586 -> tip-on bez sprężyny/tłumienie | F32: ='Translate&Prices&Logo'!$B$587 -> srebro | G32: =CONCATENATE(I32," ","-"," ",C32," ",E32," - ",F32) -> 226670 - Półnakładany tip-on bez sprężyny/tłumienie - srebro | H32: - | I32: 226670 | J32: - | K32: 12306 | L32: =CONCATENATE($K$1," - ",K32) -> krzyżakowy, wkręt - 12306 | M32: N/A | N32: =CONCATENATE($M$1," - ",M32) -> na wkręt (z mimośrodem) - N/A | O32: 12318 | P32: =CONCATENATE($O$1," - ",O32) -> krzyżakowy eurowkręt - 12318 | Q32: 12302 | R32: =CONCATENATE($Q$1," - ",Q32) -> krzyżakowy expando - 12302 | S32: 203387 | T32: =CONCATENATE($S$1," - ",S32) -> prosty wkręt - 203387 | U32: 346624 | V32: =CONCATENATE($U$1," - ",U32) -> prosty eurowkręt - 346624 | W32: 211476 | X32: =CONCATENATE($W$1," - ",W32) -> prosty expando - 211476
A33: široký | B33: BLUM | C33: ='Translate&Prices&Logo'!B557 -> Wpuszczany | D33: =VLOOKUP(CONCATENATE(A33,"_",B33,"_",C33),$A$69:$B$383,2,0) -> široký_BLUM_Vložený | E33: ='Translate&Prices&Logo'!$B$584 -> ze sprężyną z tłumieniem | F33: ='Translate&Prices&Logo'!$B$587 -> srebro | G33: =CONCATENATE(I33," ","-"," ",C33," ",E33," - ",F33) -> 12049 - Wpuszczany ze sprężyną z tłumieniem - srebro | H33: - | I33: 12049 | J33: - | K33: 12306 | L33: =CONCATENATE($K$1," - ",K33) -> krzyżakowy, wkręt - 12306 | M33: N/A | N33: =CONCATENATE($M$1," - ",M33) -> na wkręt (z mimośrodem) - N/A | O33: 12318 | P33: =CONCATENATE($O$1," - ",O33) -> krzyżakowy eurowkręt - 12318 | Q33: 12302 | R33: =CONCATENATE($Q$1," - ",Q33) -> krzyżakowy expando - 12302 | S33: 203387 | T33: =CONCATENATE($S$1," - ",S33) -> prosty wkręt - 203387 | U33: 346624 | V33: =CONCATENATE($U$1," - ",U33) -> prosty eurowkręt - 346624 | W33: 211476 | X33: =CONCATENATE($W$1," - ",W33) -> prosty expando - 211476
A34: široký | B34: BLUM | C34: ='Translate&Prices&Logo'!B557 -> Wpuszczany | D34: =VLOOKUP(CONCATENATE(A34,"_",B34,"_",C34),$A$69:$B$383,2,0) -> široký_BLUM_Vložený | E34: ='Translate&Prices&Logo'!$B$584 -> ze sprężyną z tłumieniem | F34: ='Translate&Prices&Logo'!$B$588 -> czarny | G34: =CONCATENATE(I34," ","-"," ",C34," ",E34," - ",F34) -> 306319 - Wpuszczany ze sprężyną z tłumieniem - czarny | H34: - | I34: 306319 | J34: - | K34: 458360 | L34: =CONCATENATE($K$1," - ",K34) -> krzyżakowy, wkręt - 458360 | M34: N/A | N34: =CONCATENATE($M$1," - ",M34) -> na wkręt (z mimośrodem) - N/A | O34: N/A | P34: =CONCATENATE($O$1," - ",O34) -> krzyżakowy eurowkręt - N/A | Q34: 347124 | R34: =CONCATENATE($Q$1," - ",Q34) -> krzyżakowy expando - 347124 | S34: 306320 | T34: =CONCATENATE($S$1," - ",S34) -> prosty wkręt - 306320 | U34: N/A | V34: =CONCATENATE($U$1," - ",U34) -> prosty eurowkręt - N/A | W34: 409651 | X34: =CONCATENATE($W$1," - ",W34) -> prosty expando - 409651
A35: široký | B35: BLUM | C35: ='Translate&Prices&Logo'!B557 -> Wpuszczany | D35: =VLOOKUP(CONCATENATE(A35,"_",B35,"_",C35),$A$69:$B$383,2,0) -> široký_BLUM_Vložený | E35: ='Translate&Prices&Logo'!$B$585 -> ze sprężyną bez tłumienia | F35: ='Translate&Prices&Logo'!$B$587 -> srebro | G35: =CONCATENATE(I35," ","-"," ",C35," ",E35," - ",F35) -> 12059 - Wpuszczany ze sprężyną bez tłumienia - srebro | H35: - | I35: 12059 | J35: - | K35: 12306 | L35: =CONCATENATE($K$1," - ",K35) -> krzyżakowy, wkręt - 12306 | M35: N/A | N35: =CONCATENATE($M$1," - ",M35) -> na wkręt (z mimośrodem) - N/A | O35: 12318 | P35: =CONCATENATE($O$1," - ",O35) -> krzyżakowy eurowkręt - 12318 | Q35: 12302 | R35: =CONCATENATE($Q$1," - ",Q35) -> krzyżakowy expando - 12302 | S35: 203387 | T35: =CONCATENATE($S$1," - ",S35) -> prosty wkręt - 203387 | U35: 346624 | V35: =CONCATENATE($U$1," - ",U35) -> prosty eurowkręt - 346624 | W35: 211476 | X35: =CONCATENATE($W$1," - ",W35) -> prosty expando - 211476
A36: široký | B36: BLUM | C36: ='Translate&Prices&Logo'!B557 -> Wpuszczany | D36: =VLOOKUP(CONCATENATE(A36,"_",B36,"_",C36),$A$69:$B$383,2,0) -> široký_BLUM_Vložený | E36: ='Translate&Prices&Logo'!$B$586 -> tip-on bez sprężyny/tłumienie | F36: ='Translate&Prices&Logo'!$B$587 -> srebro | G36: =CONCATENATE(I36," ","-"," ",C36," ",E36," - ",F36) -> 226671 - Wpuszczany tip-on bez sprężyny/tłumienie - srebro | H36: - | I36: 226671 | J36: - | K36: 12306 | L36: =CONCATENATE($K$1," - ",K36) -> krzyżakowy, wkręt - 12306 | M36: N/A | N36: =CONCATENATE($M$1," - ",M36) -> na wkręt (z mimośrodem) - N/A | O36: 12318 | P36: =CONCATENATE($O$1," - ",O36) -> krzyżakowy eurowkręt - 12318 | Q36: 12302 | R36: =CONCATENATE($Q$1," - ",Q36) -> krzyżakowy expando - 12302 | S36: 203387 | T36: =CONCATENATE($S$1," - ",S36) -> prosty wkręt - 203387 | U36: 346624 | V36: =CONCATENATE($U$1," - ",U36) -> prosty eurowkręt - 346624 | W36: 211476 | X36: =CONCATENATE($W$1," - ",W36) -> prosty expando - 211476
A37: široký | B37: HETTICH | C37: ='Translate&Prices&Logo'!B555 -> Nakładany | D37: =VLOOKUP(CONCATENATE(A37,"_",B37,"_",C37),$A$69:$B$383,2,0) -> široký_HETTICH_Naložený | E37: ='Translate&Prices&Logo'!$B$584 -> ze sprężyną z tłumieniem | F37: ='Translate&Prices&Logo'!$B$587 -> srebro | G37: =CONCATENATE(I37," ","-"," ",C37," ",E37," - ",F37) -> 104717 - Nakładany ze sprężyną z tłumieniem - srebro | H37: - | I37: 104717 | J37: - | K37: 106403 | L37: =CONCATENATE($K$1," - ",K37) -> krzyżakowy, wkręt - 106403 | M37: N/A | N37: =CONCATENATE($M$1," - ",M37) -> na wkręt (z mimośrodem) - N/A | O37: 119240 | P37: =CONCATENATE($O$1," - ",O37) -> krzyżakowy eurowkręt - 119240 | Q37: 136276 | R37: =CONCATENATE($Q$1," - ",Q37) -> krzyżakowy expando - 136276 | S37: 300319 | T37: =CONCATENATE($S$1," - ",S37) -> prosty wkręt - 300319 | U37: N/A | V37: =CONCATENATE($U$1," - ",U37) -> prosty eurowkręt - N/A | W37: N/A | X37: =CONCATENATE($W$1," - ",W37) -> prosty expando - N/A
A38: široký | B38: HETTICH | C38: ='Translate&Prices&Logo'!B555 -> Nakładany | D38: =VLOOKUP(CONCATENATE(A38,"_",B38,"_",C38),$A$69:$B$383,2,0) -> široký_HETTICH_Naložený | E38: ='Translate&Prices&Logo'!$B$584 -> ze sprężyną z tłumieniem | F38: ='Translate&Prices&Logo'!$B$588 -> czarny | G38: =CONCATENATE(I38," ","-"," ",C38," ",E38," - ",F38) -> 344691 - Nakładany ze sprężyną z tłumieniem - czarny | H38: - | I38: 344691 | J38: - | K38: N/A | L38: =CONCATENATE($K$1," - ",K38) -> krzyżakowy, wkręt - N/A | M38: N/A | N38: =CONCATENATE($M$1," - ",M38) -> na wkręt (z mimośrodem) - N/A | O38: 344727 | P38: =CONCATENATE($O$1," - ",O38) -> krzyżakowy eurowkręt - 344727 | Q38: 344727 | R38: =CONCATENATE($Q$1," - ",Q38) -> krzyżakowy expando - 344727 | S38: 397949 | T38: =CONCATENATE($S$1," - ",S38) -> prosty wkręt - 397949 | U38: N/A | V38: =CONCATENATE($U$1," - ",U38) -> prosty eurowkręt - N/A | W38: N/A | X38: =CONCATENATE($W$1," - ",W38) -> prosty expando - N/A
A39: široký | B39: HETTICH | C39: ='Translate&Prices&Logo'!B555 -> Nakładany | D39: =VLOOKUP(CONCATENATE(A39,"_",B39,"_",C39),$A$69:$B$383,2,0) -> široký_HETTICH_Naložený | E39: ='Translate&Prices&Logo'!$B$585 -> ze sprężyną bez tłumienia | F39: ='Translate&Prices&Logo'!$B$587 -> srebro | G39: =CONCATENATE(I39," ","-"," ",C39," ",E39," - ",F39) -> 232346 - Nakładany ze sprężyną bez tłumienia - srebro | H39: - | I39: 232346 | J39: - | K39: 106403 | L39: =CONCATENATE($K$1," - ",K39) -> krzyżakowy, wkręt - 106403 | M39: N/A | N39: =CONCATENATE($M$1," - ",M39) -> na wkręt (z mimośrodem) - N/A | O39: 119240 | P39: =CONCATENATE($O$1," - ",O39) -> krzyżakowy eurowkręt - 119240 | Q39: 136276 | R39: =CONCATENATE($Q$1," - ",Q39) -> krzyżakowy expando - 136276 | S39: 300319 | T39: =CONCATENATE($S$1," - ",S39) -> prosty wkręt - 300319 | U39: N/A | V39: =CONCATENATE($U$1," - ",U39) -> prosty eurowkręt - N/A | W39: N/A | X39: =CONCATENATE($W$1," - ",W39) -> prosty expando - N/A
A40: široký | B40: HETTICH | C40: ='Translate&Prices&Logo'!B555 -> Nakładany | D40: =VLOOKUP(CONCATENATE(A40,"_",B40,"_",C40),$A$69:$B$383,2,0) -> široký_HETTICH_Naložený | E40: ='Translate&Prices&Logo'!$B$586 -> tip-on bez sprężyny/tłumienie | F40: ='Translate&Prices&Logo'!$B$587 -> srebro | G40: =CONCATENATE(I40," ","-"," ",C40," ",E40," - ",F40) -> 245723 - Nakładany tip-on bez sprężyny/tłumienie - srebro | H40: - | I40: 245723 | J40: - | K40: 106403 | L40: =CONCATENATE($K$1," - ",K40) -> krzyżakowy, wkręt - 106403 | M40: N/A | N40: =CONCATENATE($M$1," - ",M40) -> na wkręt (z mimośrodem) - N/A | O40: 119240 | P40: =CONCATENATE($O$1," - ",O40) -> krzyżakowy eurowkręt - 119240 | Q40: 136276 | R40: =CONCATENATE($Q$1," - ",Q40) -> krzyżakowy expando - 136276 | S40: 300319 | T40: =CONCATENATE($S$1," - ",S40) -> prosty wkręt - 300319 | U40: N/A | V40: =CONCATENATE($U$1," - ",U40) -> prosty eurowkręt - N/A | W40: N/A | X40: =CONCATENATE($W$1," - ",W40) -> prosty expando - N/A
...

Sheet Translate&Prices&Logo
A1: Verze: | B1: 8.4 | D1: =Hlavní!V39 -> 3 | AA1: BRW (elox.) - maximální doporučená délka profilu 2500 mm | AB1: BRW (elox.) | AH1: Čiré | AI1: Czyste
AA2: BRW antracit RAL 7021 - maximální doporučená délka profilu 2500 mm | AB2: BRW antracyt RAL 7021 | AH2: Bez úprav | AI2: Bez modyfikacji
G3: Kurz | H3: 25.05 | I3: Kurz | J3: 6 | K3: Kurz 100HUF | L3: 6.2 | AA3: BRW bílá mat RAL 9003 - maximální doporučená délka profilu 2500 mm | AB3: BRW bialy matowy RAL 9003 | AH3: Kalené | AI3: Hartowane
B4: Název | C4: Cena CZ | E4: Cena CZ | G4: Cena SK | I4: Cena PL | K4: Cena HU | AA4: BRW bílá lesk RAL 9003 - maximální doporučená délka profilu 2500 mm | AB4: BRW bialy połysk RAL 9003 | AH4: Folie | AI4: Folia
B5: Profil | C5: ZC nová/profil | D5: ZC nová/konst. | E5: ZC nová/profil | F5: ZC nová/konst. | G5: ZC nová/profil | H5: ZC nová/konst. | I5: ZC nová/profil | J5: ZC nová/konst. | K5: ZC nová/profil | L5: ZC nová/konst. | M5: čeština | N5: Slovenština | O5: Polština | P5: Maďarština | Q5: Angličtina | R5: Francouština | S5: max doporučená délka | U5: mx výška | V5: max šířka | AA5: BRW hnědá - maximální doporučená délka profilu 2500 mm | AB5: BRW brąz | AH5: Čiré kalené (dodání 3 týdny) | AI5: Czyste hartowane
A6: Profily | B6: =IF($D$1=1,M6, IF($D$1=2,N6, IF($D$1=3,O6, IF($D$1=4,P6, IF($D$1=5,Q6, IF($D$1=6,R6,0)))))) -> BRW (elox.) - maksymalna zalecana długość profilu 2500 mm | C6: =IF($D$1=1,E6,IF(OR($D$1=2,$D$1=5,),G6,IF($D$1=3,I6,IF($D$1=4,K6,IF($D$1=6,G6*1.3,0))))) -> 49.03416 | D6: =IF($D$1=1,F6,IF(OR($D$1=2,$D$1=5),H6,IF($D$1=3,J6,IF($D$1=4,L6,IF($D$1=6,H6*1.3,0))))) -> 31.92048 | E6: 373.07693 | F6: 211.47318 | G6: 12.894191 | H6: 7.3270563 | I6: 49.03416 | J6: 31.92048 | K6: 4704.8563 | L6: 2844.5266 | M6: BRW (elox.) - maximální doporučená délka profilu 2500 mm | N6: BRW (elox.) - maximálna odporúčaná odporúčaná dĺžka profilu 2500 mm | O6: BRW (elox.) - maksymalna zalecana długość profilu 2500 mm | P6: BRW (elox.) - maximális ajánlott profilhosszúság 2500 mm | Q6: BRW (elox.) - maximum profile length 2500 mm | R6: BRW (elox.) - longueur maximale recommandée du profil 2500 mm | S6: 2500 | T6: 2500 | U6: 2700 | V6: 700 | AA6: BRW broušené - maximální doporučená délka profilu 2500 mm | AB6: BRW szczotkowany | AH6: Satinato | AI6: Satinato
B7: =IF($D$1=1,M7, IF($D$1=2,N7, IF($D$1=3,O7, IF($D$1=4,P7, IF($D$1=5,Q7, IF($D$1=6,R7,0)))))) -> BRW antracyt RAL 7021 - maksymalna zalecana długość profilu 2500 mm | C7: =IF($D$1=1,E7,IF(OR($D$1=2,$D$1=5,),G7,IF($D$1=3,I7,IF($D$1=4,K7,IF($D$1=6,G7*1.3,0))))) -> 88.153039 | D7: =IF($D$1=1,F7,IF(OR($D$1=2,$D$1=5),H7,IF($D$1=3,J7,IF($D$1=4,L7,IF($D$1=6,H7*1.3,0))))) -> 31.92048 | E7: 670.71334 | F7: 211.47318 | G7: 23.181026 | H7: 7.3270563 | I7: 88.153039 | J7: 31.92048 | K7: 8458.3355 | L7: 2844.5266 | M7: BRW antracit RAL 7021 - maximální doporučená délka profilu 2500 mm | N7: BRW antracit RAL 7021 - maximálna odporúčaná dĺžka profilu 2500 mm | O7: BRW antracyt RAL 7021 - maksymalna zalecana długość profilu 2500 mm | P7: BRW antracit RAL 7021 - maximális ajánlott profilhosszúság 2500 mm | Q7: BRW anthracite RAL 7021 - maximum profile length 2500 mm | R7: BRW antracite RAL 7021 - longueur maximale recommandée du profil 2500 mm | S7: 2500 | T7: 2500 | U7: 2700 | V7: 700 | AA7: BRW černá mat - maximální doporučená délka profilu 2500 mm | AB7: BRW Czarny matowy | AH7: MASTER SOFT | AI7: MASTER SOFT
B8: =IF($D$1=1,M8, IF($D$1=2,N8, IF($D$1=3,O8, IF($D$1=4,P8, IF($D$1=5,Q8, IF($D$1=6,R8,0)))))) -> BRW bialy matowy RAL 9003 - maksymalna zalecana długość profilu 2500 mm | C8: =IF($D$1=1,E8,IF(OR($D$1=2,$D$1=5,),G8,IF($D$1=3,I8,IF($D$1=4,K8,IF($D$1=6,G8*1.3,0))))) -> 79.003981 | D8: =IF($D$1=1,F8,IF(OR($D$1=2,$D$1=5),H8,IF($D$1=3,J8,IF($D$1=4,L8,IF($D$1=6,H8*1.3,0))))) -> 31.92048 | E8: 601.10263 | F8: 211.47318 | G8: 20.775158 | H8: 7.3270563 | I8: 79.003981 | J8: 31.92048 | K8: 7580.478 | L8: 2844.5266 | M8: BRW bílá mat RAL 9003 - maximální doporučená délka profilu 2500 mm | N8: BRW biela matt RAL 9003 - maximálna odporúčaná dĺžka profilu 2500 mm | O8: BRW bialy matowy RAL 9003 - maksymalna zalecana długość profilu 2500 mm | P8: BRW fehér matt RAL 9003 - maximális ajánlott profilhosszúság 2500 mm | Q8: BRW white matt RAL 9003 - maximum profile length 2500 mm | R8: BRW blanc mat RAL 9003 - longueur maximale recommandée du profil 2500 mm | S8: 2500 | T8: 2500 | U8: 2700 | V8: 700 | AA8: BRW zlatá - maximální doporučená délka profilu 2500 mm | AB8: BRW złota | AH8: Satinato hnědé / Decormat Braz | AI8: Satinato brązowe
B9: =IF($D$1=1,M9, IF($D$1=2,N9, IF($D$1=3,O9, IF($D$1=4,P9, IF($D$1=5,Q9, IF($D$1=6,R9,0)))))) -> BRW bialy połysk RAL 9003 - maksymalna zalecana długość profilu 2500 mm | C9: =IF($D$1=1,E9,IF(OR($D$1=2,$D$1=5,),G9,IF($D$1=3,I9,IF($D$1=4,K9,IF($D$1=6,G9*1.3,0))))) -> 79.003981 | D9: =IF($D$1=1,F9,IF(OR($D$1=2,$D$1=5),H9,IF($D$1=3,J9,IF($D$1=4,L9,IF($D$1=6,H9*1.3,0))))) -> 31.92048 | E9: 601.10263 | F9: 211.47318 | G9: 20.775158 | H9: 7.3270563 | I9: 79.003981 | J9: 31.92048 | K9: 7580.478 | L9: 2844.5266 | M9: BRW bílá lesk RAL 9003 - maximální doporučená délka profilu 2500 mm | N9: BRW biela lesk RAL 9003 - maximálna odporúčaná dĺžka profilu 2500 mm | O9: BRW bialy połysk RAL 9003 - maksymalna zalecana długość profilu 2500 mm | P9: BRW fehér fényes RAL 9003 - maximális ajánlott profilhosszúság 2500 mm | Q9: BRW white gloss RAL 9003 - maximum profile length 2500 mm | R9: BRW blanc brillant RAL 9003 - longueur maximale recommandée du profil 2500 mm | S9: 2500 | T9: 2500 | U9: 2700 | V9: 700 | AA9: BRW černá broušená - maximální doporučená délka profilu 2500 mm | AB9: BRW czarna szczotka | AH9: Satinato grafit / Decormat grafit | AI9: Satinato grafit
B10: =IF($D$1=1,M10, IF($D$1=2,N10, IF($D$1=3,O10, IF($D$1=4,P10, IF($D$1=5,Q10, IF($D$1=6,R10,0)))))) -> BRW brąz - maksymalna zalecana długość profilu 2500 mm | C10: =IF($D$1=1,E10,IF(OR($D$1=2,$D$1=5,),G10,IF($D$1=3,I10,IF($D$1=4,K10,IF($D$1=6,G10*1.3,0))))) -> 50.67117 | D10: =IF($D$1=1,F10,IF(OR($D$1=2,$D$1=5),H10,IF($D$1=3,J10,IF($D$1=4,L10,IF($D$1=6,H10*1.3,0))))) -> 31.92048 | E10: 385.53214 | F10: 211.47318 | G10: 13.324665 | H10: 7.3270563 | I10: 50.67117 | J10: 31.92048 | K10: 4861.9283 | L10: 2844.5266 | M10: BRW hnědá - maximální doporučená délka profilu 2500 mm | N10: BRW hnědá - maximálna odporúčaná dĺžka profilu 2500 mm | O10: BRW brąz - maksymalna zalecana długość profilu 2500 mm | P10: BRW barna - maximális ajánlott profilhosszúság 2500 mm | Q10: BRW brown - maximum profile length 2500 mm | R10: BRW marron - longueur maximale recommandée du profil 2500 mm | S10: 2500 | T10: 2500 | U10: 2700 | V10: 700 | AA10: BRW světlá nerez (INOX ACIER gratta) - maximální doporučená délka profilu 2500 mm | AB10: BRW INOX ACIER gratta | AH10: Planibel dark grey | AI10: Planibel dark grey
B11: =IF($D$1=1,M11, IF($D$1=2,N11, IF($D$1=3,O11, IF($D$1=4,P11, IF($D$1=5,Q11, IF($D$1=6,R11,0)))))) -> BRW szczotkowany - maksymalna zalecana długość profilu 2500 mm | C11: =IF($D$1=1,E11,IF(OR($D$1=2,$D$1=5,),G11,IF($D$1=3,I11,IF($D$1=4,K11,IF($D$1=6,G11*1.3,0))))) -> 71.118567 | D11: =IF($D$1=1,F11,IF(OR($D$1=2,$D$1=5),H11,IF($D$1=3,J11,IF($D$1=4,L11,IF($D$1=6,H11*1.3,0))))) -> 31.92048 | E11: 541.10637 | F11: 211.47318 | G11: 18.701583 | H11: 7.3270563 | I11: 71.118567 | J11: 31.92048 | K11: 6823.868 | L11: 2844.5266 | M11: BRW broušené - maximální doporučená délka profilu 2500 mm | N11: BRW brúsené - maximálna odporúčaná dĺžka profilu 2500 mm | O11: BRW szczotkowany - maksymalna zalecana długość profilu 2500 mm | P11: BRW csiszolt - maximális ajánlott profilhosszúság 2500 mm | Q11: BRW brushed - maximum profile length 2500 mm | R11: BRW brossé - longueur maximale recommandée du profil 2500 mm | S11: 2500 | T11: 2500 | U11: 2700 | V11: 700 | AA11: BRW tmavá nerez br. (INOX LIJA) - maximální doporučená délka profilu 2500 mm | AB11: BRW INOX LIJA | AH11: Venus VG10 | AI11: Venus VG10
B12: =IF($D$1=1,M12, IF($D$1=2,N12, IF($D$1=3,O12, IF($D$1=4,P12, IF($D$1=5,Q12, IF($D$1=6,R12,0)))))) -> BRW Czarny matowy - maksymalna zalecana długość profilu 2500 mm | C12: =IF($D$1=1,E12,IF(OR($D$1=2,$D$1=5,),G12,IF($D$1=3,I12,IF($D$1=4,K12,IF($D$1=6,G12*1.3,0))))) -> 48.644323 | D12: =IF($D$1=1,F12,IF(OR($D$1=2,$D$1=5),H12,IF($D$1=3,J12,IF($D$1=4,L12,IF($D$1=6,H12*1.3,0))))) -> 32.28984 | E12: 370.11085 | F12: 213.92019 | G12: 12.791678 | H12: 7.4118395 | I12: 48.644323 | J12: 32.28984 | K12: 4667.4512 | L12: 2877.4414 | M12: BRW černá mat - maximální doporučená délka profilu 2500 mm | N12: BRW čierna matt - maximálna odporúčaná dĺžka profilu 2500 mm | O12: BRW Czarny matowy - maksymalna zalecana długość profilu 2500 mm | P12: BRW fekete matt - maximális ajánlott profilhosszúság 2500 mm | Q12: BRW black matt - maximum profile length 2500 mm | R12: BRW noir mat - longueur maximale recommandée du profil 2500 mm | S12: 2500 | T12: 2500 | U12: 2700 | V12: 700 | AA12: Corleone (elox.) - maximální doporučená délka profilu 1500 mm | AB12: Corleone (elox.) | AH12: Stopsol bronz | AI12: Stopsol brąz
B13: =IF($D$1=1,M13, IF($D$1=2,N13, IF($D$1=3,O13, IF($D$1=4,P13, IF($D$1=5,Q13, IF($D$1=6,R13,0)))))) -> BRW złota- maksymalna zalecana długość profilu 2500 mm | C13: =IF($D$1=1,E13,IF(OR($D$1=2,$D$1=5,),G13,IF($D$1=3,I13,IF($D$1=4,K13,IF($D$1=6,G13*1.3,0))))) -> 98.814492 | D13: =IF($D$1=1,F13,IF(OR($D$1=2,$D$1=5),H13,IF($D$1=3,J13,IF($D$1=4,L13,IF($D$1=6,H13*1.3,0))))) -> 31.92048 | E13: 751.83111 | F13: 211.47318 | G13: 25.984598 | H13: 7.3270563 | I13: 98.814492 | J13: 31.92048 | K13: 9481.3082 | L13: 2844.5266 | M13: BRW zlatá - maximální doporučená délka profilu 2500 mm | N13: BRW zlatá - maximálna odporúčaná dĺžka profilu 2500 mm | O13: BRW złota- maksymalna zalecana długość profilu 2500 mm | P13: BRW arany - maximális ajánlott profilhosszúság 2500 mm | Q13: BRW gold - maximum profile length 2500 mm | R13: BRW doré - longueur maximale recommandée du profil 2500 mm | S13: 2500 | T13: 2500 | U13: 2700 | V13: 700 | AA13: Corleone černá mat - maximální doporučená délka profilu 1500 mm | AB13: Corleone czarny matowy | AH13: Lakomat | AI13: Lakomat
